BEGIN:VCALENDAR
VERSION:2.0
PRODID:-//Choeur-mixte de Sâles La Concorde - ECPv6.15.20//NONSGML v1.0//EN
CALSCALE:GREGORIAN
METHOD:PUBLISH
X-ORIGINAL-URL:https://choeurmixtedesales.ch
X-WR-CALDESC:Évènements pour Choeur-mixte de Sâles La Concorde
REFRESH-INTERVAL;VALUE=DURATION:PT1H
X-Robots-Tag:noindex
X-PUBLISHED-TTL:PT1H
BEGIN:VTIMEZONE
TZID:Europe/Zurich
BEGIN:DAYLIGHT
TZOFFSETFROM:+0100
TZOFFSETTO:+0200
TZNAME:CEST
DTSTART:20230326T010000
END:DAYLIGHT
BEGIN:STANDARD
TZOFFSETFROM:+0200
TZOFFSETTO:+0100
TZNAME:CET
DTSTART:20231029T010000
END:STANDARD
BEGIN:DAYLIGHT
TZOFFSETFROM:+0100
TZOFFSETTO:+0200
TZNAME:CEST
DTSTART:20240331T010000
END:DAYLIGHT
BEGIN:STANDARD
TZOFFSETFROM:+0200
TZOFFSETTO:+0100
TZNAME:CET
DTSTART:20241027T010000
END:STANDARD
BEGIN:DAYLIGHT
TZOFFSETFROM:+0100
TZOFFSETTO:+0200
TZNAME:CEST
DTSTART:20250330T010000
END:DAYLIGHT
BEGIN:STANDARD
TZOFFSETFROM:+0200
TZOFFSETTO:+0100
TZNAME:CET
DTSTART:20251026T010000
END:STANDARD
END:VTIMEZONE
BEGIN:VEVENT
DTSTART;TZID=Europe/Zurich:20241201T170000
DTEND;TZID=Europe/Zurich:20241201T190000
DTSTAMP:20260419T153758
CREATED:20241024T110354Z
LAST-MODIFIED:20241024T110425Z
UID:3928-1733072400-1733079600@choeurmixtedesales.ch
SUMMARY:Concert de l'Avent - 1er décembre 2024
DESCRIPTION:
URL:https://choeurmixtedesales.ch/agenda/concert-de-lavent-1er-decembre-2024/
LOCATION:Eglise de Sâles\, Place de l'Eglise 1\, Sâles\, 1625\, Suisse
END:VEVENT
BEGIN:VEVENT
DTSTART;TZID=Europe/Zurich:20241222T170000
DTEND;TZID=Europe/Zurich:20241222T183000
DTSTAMP:20260419T153758
CREATED:20230129T153129Z
LAST-MODIFIED:20241215T180728Z
UID:3566-1734886800-1734892200@choeurmixtedesales.ch
SUMMARY:Concert méditatif
DESCRIPTION:Concert méditatif
URL:https://choeurmixtedesales.ch/agenda/concert-meditatif/
LOCATION:Chapelle Notre-Dame de Compassion\, Place du Tilleul 1\, Bulle\, 1625\, Suisse
END:VEVENT
END:VCALENDAR