BEGIN:VCALENDAR
VERSION:2.0
PRODID:-//Choeur-mixte de Sâles La Concorde - ECPv6.15.20//NONSGML v1.0//EN
CALSCALE:GREGORIAN
METHOD:PUBLISH
X-WR-CALNAME:Choeur-mixte de Sâles La Concorde
X-ORIGINAL-URL:https://choeurmixtedesales.ch
X-WR-CALDESC:Évènements pour Choeur-mixte de Sâles La Concorde
REFRESH-INTERVAL;VALUE=DURATION:PT1H
X-Robots-Tag:noindex
X-PUBLISHED-TTL:PT1H
BEGIN:VTIMEZONE
TZID:Europe/Zurich
BEGIN:DAYLIGHT
TZOFFSETFROM:+0100
TZOFFSETTO:+0200
TZNAME:CEST
DTSTART:20240331T010000
END:DAYLIGHT
BEGIN:STANDARD
TZOFFSETFROM:+0200
TZOFFSETTO:+0100
TZNAME:CET
DTSTART:20241027T010000
END:STANDARD
BEGIN:DAYLIGHT
TZOFFSETFROM:+0100
TZOFFSETTO:+0200
TZNAME:CEST
DTSTART:20250330T010000
END:DAYLIGHT
BEGIN:STANDARD
TZOFFSETFROM:+0200
TZOFFSETTO:+0100
TZNAME:CET
DTSTART:20251026T010000
END:STANDARD
BEGIN:DAYLIGHT
TZOFFSETFROM:+0100
TZOFFSETTO:+0200
TZNAME:CEST
DTSTART:20260329T010000
END:DAYLIGHT
BEGIN:STANDARD
TZOFFSETFROM:+0200
TZOFFSETTO:+0100
TZNAME:CET
DTSTART:20261025T010000
END:STANDARD
END:VTIMEZONE
BEGIN:VEVENT
DTSTART;TZID=Europe/Zurich:20250607T200000
DTEND;TZID=Europe/Zurich:20250607T220000
DTSTAMP:20260423T131138
CREATED:20250312T185642Z
LAST-MODIFIED:20250312T190023Z
UID:4026-1749326400-1749333600@choeurmixtedesales.ch
SUMMARY:Concert Célébration 7 juin 2025
DESCRIPTION:
URL:https://choeurmixtedesales.ch/agenda/concert-celebration-7-juin-2025/
LOCATION:Eglise de Sâles\, Place de l'Eglise 1\, Sâles\, 1625\, Suisse
END:VEVENT
END:VCALENDAR